BEGIN:VCALENDAR
VERSION:2.0
PRODID:-//QuickLink Solutions - ECPv5.16.4//NONSGML v1.0//EN
CALSCALE:GREGORIAN
METHOD:PUBLISH
X-WR-CALNAME:QuickLink Solutions
X-ORIGINAL-URL:https://www.qlsol.com
X-WR-CALDESC:Events for QuickLink Solutions
BEGIN:VTIMEZONE
TZID:Europe/Rome
BEGIN:DAYLIGHT
TZOFFSETFROM:+0100
TZOFFSETTO:+0200
TZNAME:CEST
DTSTART:20200329T010000
END:DAYLIGHT
BEGIN:STANDARD
TZOFFSETFROM:+0200
TZOFFSETTO:+0100
TZNAME:CET
DTSTART:20201025T010000
END:STANDARD
END:VTIMEZONE
BEGIN:VEVENT
DTSTART;VALUE=DATE:20200909
DTEND;VALUE=DATE:20200910
DTSTAMP:20260419T161426
CREATED:20210330T101920Z
LAST-MODIFIED:20220330T153135Z
UID:3317-1599609600-1599695999@www.qlsol.com
SUMMARY:iSMA Live! Controllore iSMA-B-AAC20\, il dispositivo avanzato per il mondo HVAC
DESCRIPTION:Una panoramica completa delle potenzialità e delle caratteristiche del controllore AAC20 con demo dal vivo del tool di programmazione gratuito. \n  \nGuarda la registrazione\n 
URL:https://www.qlsol.com/en/event/isma-live-controllore-isma-b-aac20-il-dispositivo-avanzato-per-il-mondo-hvac-2/
CATEGORIES:Webinar
ATTACH;FMTTYPE=image/png:https://www.qlsol.com/wp-content/uploads/2021/02/iSMAliveAAC20.png
END:VEVENT
END:VCALENDAR