BEGIN:VCALENDAR
VERSION:2.0
PRODID:-//QuickLink Solutions - ECPv5.16.4//NONSGML v1.0//EN
CALSCALE:GREGORIAN
METHOD:PUBLISH
X-WR-CALNAME:QuickLink Solutions
X-ORIGINAL-URL:https://www.qlsol.com
X-WR-CALDESC:Events for QuickLink Solutions
BEGIN:VTIMEZONE
TZID:Europe/Rome
BEGIN:DAYLIGHT
TZOFFSETFROM:+0100
TZOFFSETTO:+0200
TZNAME:CEST
DTSTART:20200329T010000
END:DAYLIGHT
BEGIN:STANDARD
TZOFFSETFROM:+0200
TZOFFSETTO:+0100
TZNAME:CET
DTSTART:20201025T010000
END:STANDARD
END:VTIMEZONE
BEGIN:VEVENT
DTSTART;VALUE=DATE:20200729
DTEND;VALUE=DATE:20200730
DTSTAMP:20260419T161856
CREATED:20210330T101947Z
LAST-MODIFIED:20220330T153205Z
UID:3320-1595980800-1596067199@www.qlsol.com
SUMMARY:iSMA Live! Pannelli touch HMI: la soluzione migliore per la visualizzazione del BMS
DESCRIPTION:Per scoprire come i pannelli HMI possono semplificare il lavoro e vedere da vicino le visualizzazioni grafiche di iSMA e le funzionalità dell’applicazione iSMA Android. \n  \nGuarda la registrazione\n 
URL:https://www.qlsol.com/en/event/isma-live-pannelli-touch-hmi-la-soluzione-migliore-per-la-visualizzazione-del-bms-2/
CATEGORIES:Webinar
ATTACH;FMTTYPE=image/png:https://www.qlsol.com/wp-content/uploads/2021/02/iSMAliveTOUCH.png
END:VEVENT
END:VCALENDAR