BEGIN:VCALENDAR
VERSION:2.0
PRODID:-//QuickLink Solutions - ECPv5.16.4//NONSGML v1.0//EN
CALSCALE:GREGORIAN
METHOD:PUBLISH
X-WR-CALNAME:QuickLink Solutions
X-ORIGINAL-URL:https://www.qlsol.com
X-WR-CALDESC:Events for QuickLink Solutions
BEGIN:VTIMEZONE
TZID:Europe/Rome
BEGIN:DAYLIGHT
TZOFFSETFROM:+0100
TZOFFSETTO:+0200
TZNAME:CEST
DTSTART:20200329T010000
END:DAYLIGHT
BEGIN:STANDARD
TZOFFSETFROM:+0200
TZOFFSETTO:+0100
TZNAME:CET
DTSTART:20201025T010000
END:STANDARD
END:VTIMEZONE
BEGIN:VEVENT
DTSTART;VALUE=DATE:20200708
DTEND;VALUE=DATE:20200709
DTSTAMP:20260419T180006
CREATED:20210330T102013Z
LAST-MODIFIED:20220330T153235Z
UID:3323-1594166400-1594252799@www.qlsol.com
SUMMARY:QuickLink e Helvar\, insieme per soluzioni integrate di controllo centralizzato dell’illuminazione
DESCRIPTION:  \nGuarda la registrazione\n 
URL:https://www.qlsol.com/en/event/quicklink-e-helvar-insieme-per-soluzioni-integrate-di-controllo-centralizzato-dellilluminazione-2/
CATEGORIES:Webinar
ATTACH;FMTTYPE=image/png:https://www.qlsol.com/wp-content/uploads/2021/02/helvar-webinar.png
END:VEVENT
END:VCALENDAR