BEGIN:VCALENDAR
VERSION:2.0
PRODID:-//QuickLink Solutions - ECPv5.16.4//NONSGML v1.0//EN
CALSCALE:GREGORIAN
METHOD:PUBLISH
X-WR-CALNAME:QuickLink Solutions
X-ORIGINAL-URL:https://www.qlsol.com
X-WR-CALDESC:Eventi per QuickLink Solutions
BEGIN:VTIMEZONE
TZID:Europe/Rome
BEGIN:DAYLIGHT
TZOFFSETFROM:+0100
TZOFFSETTO:+0200
TZNAME:CEST
DTSTART:20260329T010000
END:DAYLIGHT
BEGIN:STANDARD
TZOFFSETFROM:+0200
TZOFFSETTO:+0100
TZNAME:CET
DTSTART:20261025T010000
END:STANDARD
END:VTIMEZONE
BEGIN:VEVENT
DTSTART;VALUE=DATE:20260615
DTEND;VALUE=DATE:20260620
DTSTAMP:20260424T052306
CREATED:20250929T152427Z
LAST-MODIFIED:20260402T072632Z
UID:9673-1781481600-1781913599@www.qlsol.com
SUMMARY:Niagara 4 Technical Certification Program
DESCRIPTION:Durata: 5 giorni\nModalità: online o in presenza\nPartecipanti: max 6 (per garantire una postazione dedicata e supporto costante) \nIl corso copre tutti gli elementi fondamentali del framework Niagara 4 con sessioni guidate\, dimostrazioni e laboratori pratici. \nL’obiettivo del Corso di formazione tecnica e Certificazione Niagara 4 è quello di fornire ai partecipanti le competenze tecniche necessarie per la realizzazione di progetti che utilizzano il Framework Niagara. I partecipanti che avranno superato l’esame a fine corso\, riceveranno la certificazione ufficiale di Tridium. \n    Programma del Corso TCP N4\nGiorno 1 — 10:00–17:00\n\nIntroduzione al corso e postazione di lavoro\nCreazione della Station\nComponenti di base e Tagging\nDriver Modbus\nAllarmi e History\nLogiche KitControl (Thermostat\, LeadLag)\nProgrammi orari\n\nGiorno 2 — 9:00–17:00\n\nPalette e shortcuts\nLogiche PID\nTagging e Templating\nGerarchie e relazioni\nCommissioning JACE 8000\nControlli sul sito\nDriver BACnet\n\nGiorno 3 — 9:00–17:00\n\nGrafica PX (base e avanzata)\nPX Include\nDashboard e navigazione\nCategorie\nUtenti e Ruoli\nModello di Station\n\nGiorno 4 — 9:00–17:00\n\nIntegrazione con Web Supervisor\nServizi della Station\nPlatform\nRevisione generale e mini-progetto finale\n\nGiorno 5 — 9:00–17:00\n\nEsame pratico di Certificazione Niagara 4\n\n\n  \n     \n      Agenda N4-TCP Training\n      \n    \n  \n    Domande Frequenti\n\nEsperienza necessaria\nNon è richiesta esperienza precedente con Niagara. È utile\, ma non indispensabile.\nCosa dimostra la certificazione N4?\nAttesta competenze solide nella progettazione\, configurazione e programmazione su Niagara 4. Il certificato è disponibile sul Tridium University Portal.\nCom’è strutturato l’esame?\nL’esame è pratico e si svolge il quinto giorno.
URL:https://www.qlsol.com/event/niagara-4-technical-certification-program-25/
CATEGORIES:Training
ATTACH;FMTTYPE=image/png:https://www.qlsol.com/wp-content/uploads/2021/02/Remote-Training.png
END:VEVENT
BEGIN:VEVENT
DTSTART;VALUE=DATE:20260914
DTEND;VALUE=DATE:20260919
DTSTAMP:20260424T052306
CREATED:20250929T152502Z
LAST-MODIFIED:20260112T082031Z
UID:9675-1789344000-1789775999@www.qlsol.com
SUMMARY:Niagara 4 Technical Certification Program
DESCRIPTION:Durata: 5 giorni\nModalità: online o in presenza\nPartecipanti: max 6 (per garantire una postazione dedicata e supporto costante) \nIl corso copre tutti gli elementi fondamentali del framework Niagara 4 con sessioni guidate\, dimostrazioni e laboratori pratici. \nL’obiettivo del Corso di formazione tecnica e Certificazione Niagara 4 è quello di fornire ai partecipanti le competenze tecniche necessarie per la realizzazione di progetti che utilizzano il Framework Niagara. I partecipanti che avranno superato l’esame a fine corso\, riceveranno la certificazione ufficiale di Tridium. \n    Programma del Corso TCP N4\nGiorno 1 — 10:00–17:00\n\nIntroduzione al corso e postazione di lavoro\nCreazione della Station\nComponenti di base e Tagging\nDriver Modbus\nAllarmi e History\nLogiche KitControl (Thermostat\, LeadLag)\nProgrammi orari\n\nGiorno 2 — 9:00–17:00\n\nPalette e shortcuts\nLogiche PID\nTagging e Templating\nGerarchie e relazioni\nCommissioning JACE 8000\nControlli sul sito\nDriver BACnet\n\nGiorno 3 — 9:00–17:00\n\nGrafica PX (base e avanzata)\nPX Include\nDashboard e navigazione\nCategorie\nUtenti e Ruoli\nModello di Station\n\nGiorno 4 — 9:00–17:00\n\nIntegrazione con Web Supervisor\nServizi della Station\nPlatform\nRevisione generale e mini-progetto finale\n\nGiorno 5 — 9:00–17:00\n\nEsame pratico di Certificazione Niagara 4\n\n\n  \n     \n      Agenda N4-TCP Training\n      \n    \n  \n    Domande Frequenti\n\nEsperienza necessaria\nNon è richiesta esperienza precedente con Niagara. È utile\, ma non indispensabile.\nCosa dimostra la certificazione N4?\nAttesta competenze solide nella progettazione\, configurazione e programmazione su Niagara 4. Il certificato è disponibile sul Tridium University Portal.\nCom’è strutturato l’esame?\nL’esame è pratico e si svolge il quinto giorno.
URL:https://www.qlsol.com/event/niagara-4-technical-certification-program-26/
CATEGORIES:Training
ATTACH;FMTTYPE=image/png:https://www.qlsol.com/wp-content/uploads/2021/02/Remote-Training.png
END:VEVENT
BEGIN:VEVENT
DTSTART;VALUE=DATE:20261123
DTEND;VALUE=DATE:20261128
DTSTAMP:20260424T052306
CREATED:20250929T152544Z
LAST-MODIFIED:20260112T082113Z
UID:9677-1795392000-1795823999@www.qlsol.com
SUMMARY:Niagara 4 Technical Certification Program
DESCRIPTION:Durata: 5 giorni\nModalità: online o in presenza\nPartecipanti: max 6 (per garantire una postazione dedicata e supporto costante) \nIl corso copre tutti gli elementi fondamentali del framework Niagara 4 con sessioni guidate\, dimostrazioni e laboratori pratici. \nL’obiettivo del Corso di formazione tecnica e Certificazione Niagara 4 è quello di fornire ai partecipanti le competenze tecniche necessarie per la realizzazione di progetti che utilizzano il Framework Niagara. I partecipanti che avranno superato l’esame a fine corso\, riceveranno la certificazione ufficiale di Tridium. \n    Programma del Corso TCP N4\nGiorno 1 — 10:00–17:00\n\nIntroduzione al corso e postazione di lavoro\nCreazione della Station\nComponenti di base e Tagging\nDriver Modbus\nAllarmi e History\nLogiche KitControl (Thermostat\, LeadLag)\nProgrammi orari\n\nGiorno 2 — 9:00–17:00\n\nPalette e shortcuts\nLogiche PID\nTagging e Templating\nGerarchie e relazioni\nCommissioning JACE 8000\nControlli sul sito\nDriver BACnet\n\nGiorno 3 — 9:00–17:00\n\nGrafica PX (base e avanzata)\nPX Include\nDashboard e navigazione\nCategorie\nUtenti e Ruoli\nModello di Station\n\nGiorno 4 — 9:00–17:00\n\nIntegrazione con Web Supervisor\nServizi della Station\nPlatform\nRevisione generale e mini-progetto finale\n\nGiorno 5 — 9:00–17:00\n\nEsame pratico di Certificazione Niagara 4\n\n\n  \n     \n      Agenda N4-TCP Training\n      \n    \n  \n    Domande Frequenti\n\nEsperienza necessaria\nNon è richiesta esperienza precedente con Niagara. È utile\, ma non indispensabile.\nCosa dimostra la certificazione N4?\nAttesta competenze solide nella progettazione\, configurazione e programmazione su Niagara 4. Il certificato è disponibile sul Tridium University Portal.\nCom’è strutturato l’esame?\nL’esame è pratico e si svolge il quinto giorno.
URL:https://www.qlsol.com/event/niagara-4-technical-certification-program-27/
CATEGORIES:Training
ATTACH;FMTTYPE=image/png:https://www.qlsol.com/wp-content/uploads/2021/02/Remote-Training.png
END:VEVENT
END:VCALENDAR